BEGIN:VCALENDAR
VERSION:2.0
PRODID:-//Hondenschool Bingel - ECPv6.8.1//NONSGML v1.0//EN
CALSCALE:GREGORIAN
METHOD:PUBLISH
X-WR-CALNAME:Hondenschool Bingel
X-ORIGINAL-URL:https://hondenschoolbingel.nl
X-WR-CALDESC:Evenementen voor Hondenschool Bingel
REFRESH-INTERVAL;VALUE=DURATION:PT1H
X-Robots-Tag:noindex
X-PUBLISHED-TTL:PT1H
BEGIN:VTIMEZONE
TZID:Europe/Amsterdam
BEGIN:DAYLIGHT
TZOFFSETFROM:+0100
TZOFFSETTO:+0200
TZNAME:CEST
DTSTART:20230326T010000
END:DAYLIGHT
BEGIN:STANDARD
TZOFFSETFROM:+0200
TZOFFSETTO:+0100
TZNAME:CET
DTSTART:20231029T010000
END:STANDARD
BEGIN:DAYLIGHT
TZOFFSETFROM:+0100
TZOFFSETTO:+0200
TZNAME:CEST
DTSTART:20240331T010000
END:DAYLIGHT
BEGIN:STANDARD
TZOFFSETFROM:+0200
TZOFFSETTO:+0100
TZNAME:CET
DTSTART:20241027T010000
END:STANDARD
END:VTIMEZONE
BEGIN:VEVENT
DTSTART;VALUE=DATE:20231023
DTEND;VALUE=DATE:20231030
DTSTAMP:20260422T212002
CREATED:20230825T071714Z
LAST-MODIFIED:20230825T071714Z
UID:1410-1698019200-1698623999@hondenschoolbingel.nl
SUMMARY:Start nieuwe cursussen
DESCRIPTION:In de week van 23 oktober starten we weer met nieuwe cursussen. \nTrainingsdagen: woensdag (15.00-20.00u)\, zaterdag (09.00-13.00u) en zondag (09.00-13.oou). \nEr is nog plek voor nieuwe cursisten! Interesse? Schrijf je snel in!
URL:https://hondenschoolbingel.nl/training/start-nieuwe-cursussen-2/
END:VEVENT
BEGIN:VEVENT
DTSTART;TZID=Europe/Amsterdam:20231025T183000
DTEND;TZID=Europe/Amsterdam:20231025T190000
DTSTAMP:20260422T212002
CREATED:20231017T064316Z
LAST-MODIFIED:20231017T064316Z
UID:1427-1698258600-1698260400@hondenschoolbingel.nl
SUMMARY:Sport- en spel: Fun Obedience
DESCRIPTION:
URL:https://hondenschoolbingel.nl/training/sport-en-spel-fun-obedience-19/
END:VEVENT
BEGIN:VEVENT
DTSTART;TZID=Europe/Amsterdam:20231101T183000
DTEND;TZID=Europe/Amsterdam:20231101T190000
DTSTAMP:20260422T212002
CREATED:20231017T064347Z
LAST-MODIFIED:20231017T064347Z
UID:1429-1698863400-1698865200@hondenschoolbingel.nl
SUMMARY:Sport- en spel: Fun Obedience
DESCRIPTION:
URL:https://hondenschoolbingel.nl/training/sport-en-spel-fun-obedience-20/
END:VEVENT
BEGIN:VEVENT
DTSTART;VALUE=DATE:20231104
DTEND;VALUE=DATE:20231105
DTSTAMP:20260422T212002
CREATED:20231017T064908Z
LAST-MODIFIED:20231017T064908Z
UID:1441-1699056000-1699142399@hondenschoolbingel.nl
SUMMARY:Sport- en spel: Fun Obedience & Hoopers
DESCRIPTION:09.30 – 10.00u: Fun Obedience \n11.00 – 11.30u: Hoopers
URL:https://hondenschoolbingel.nl/training/sport-en-spel-fun-obedience-hoopers/
END:VEVENT
BEGIN:VEVENT
DTSTART;VALUE=DATE:20231105
DTEND;VALUE=DATE:20231106
DTSTAMP:20260422T212002
CREATED:20231017T065434Z
LAST-MODIFIED:20231017T065434Z
UID:1455-1699142400-1699228799@hondenschoolbingel.nl
SUMMARY:Sport- en spel: Flyball en Hoopers
DESCRIPTION:09.00 – 09.30u: Flyball \n11.30 – 12.00u: Hoopers
URL:https://hondenschoolbingel.nl/training/sport-en-spel-flyball-en-hoopers/
END:VEVENT
BEGIN:VEVENT
DTSTART;TZID=Europe/Amsterdam:20231108T183000
DTEND;TZID=Europe/Amsterdam:20231108T190000
DTSTAMP:20260422T212002
CREATED:20231017T064408Z
LAST-MODIFIED:20231017T064408Z
UID:1431-1699468200-1699470000@hondenschoolbingel.nl
SUMMARY:Sport- en spel: Fun Obedience
DESCRIPTION:
URL:https://hondenschoolbingel.nl/training/sport-en-spel-fun-obedience-21/
END:VEVENT
BEGIN:VEVENT
DTSTART;VALUE=DATE:20231111
DTEND;VALUE=DATE:20231112
DTSTAMP:20260422T212002
CREATED:20231017T064929Z
LAST-MODIFIED:20231017T064929Z
UID:1443-1699660800-1699747199@hondenschoolbingel.nl
SUMMARY:Sport- en spel: Fun Obedience en Hoopers
DESCRIPTION:09.30 – 10.00u: Fun Obedience \n11.00 – 11.30u: Hoopers
URL:https://hondenschoolbingel.nl/training/sport-en-spel-fun-obedience-en-hoopers/
END:VEVENT
BEGIN:VEVENT
DTSTART;VALUE=DATE:20231112
DTEND;VALUE=DATE:20231113
DTSTAMP:20260422T212002
CREATED:20231017T065454Z
LAST-MODIFIED:20231017T065454Z
UID:1457-1699747200-1699833599@hondenschoolbingel.nl
SUMMARY:Sport- en spel: Flyball & Hoopers
DESCRIPTION:09.00 – 09.30u: Flyball \n11.30 – 12.00u: Hoopers
URL:https://hondenschoolbingel.nl/training/sport-en-spel-flyball-hoopers/
END:VEVENT
BEGIN:VEVENT
DTSTART;TZID=Europe/Amsterdam:20231115T183000
DTEND;TZID=Europe/Amsterdam:20231115T190000
DTSTAMP:20260422T212002
CREATED:20231017T064510Z
LAST-MODIFIED:20231017T064510Z
UID:1433-1700073000-1700074800@hondenschoolbingel.nl
SUMMARY:Sport- en spel: Fun Obedience
DESCRIPTION:
URL:https://hondenschoolbingel.nl/training/sport-en-spel-fun-obedience-22/
END:VEVENT
BEGIN:VEVENT
DTSTART;VALUE=DATE:20231118
DTEND;VALUE=DATE:20231119
DTSTAMP:20260422T212002
CREATED:20231017T064951Z
LAST-MODIFIED:20231017T064951Z
UID:1445-1700265600-1700351999@hondenschoolbingel.nl
SUMMARY:Sport- en spel: Fun Obedience en Hoopers
DESCRIPTION:09.30 – 10.00u: Fun Obedience \n11.00 – 11.30u: Hoopers
URL:https://hondenschoolbingel.nl/training/sport-en-spel-fun-obedience-en-hoopers-2/
END:VEVENT
BEGIN:VEVENT
DTSTART;VALUE=DATE:20231119
DTEND;VALUE=DATE:20231120
DTSTAMP:20260422T212002
CREATED:20231017T065513Z
LAST-MODIFIED:20231017T065513Z
UID:1459-1700352000-1700438399@hondenschoolbingel.nl
SUMMARY:Sport- en spel: Flyball en Hoopers
DESCRIPTION:09.00 – 09.30u: Flyball \n11.30 – 12.00u: Hoopers
URL:https://hondenschoolbingel.nl/training/sport-en-spel-flyball-en-hoopers-2/
END:VEVENT
BEGIN:VEVENT
DTSTART;TZID=Europe/Amsterdam:20231122T183000
DTEND;TZID=Europe/Amsterdam:20231122T190000
DTSTAMP:20260422T212002
CREATED:20231017T064538Z
LAST-MODIFIED:20231017T064538Z
UID:1435-1700677800-1700679600@hondenschoolbingel.nl
SUMMARY:Sport- en spel: Fun Obedience
DESCRIPTION:
URL:https://hondenschoolbingel.nl/training/sport-en-spel-fun-obedience-23/
END:VEVENT
BEGIN:VEVENT
DTSTART;VALUE=DATE:20231125
DTEND;VALUE=DATE:20231126
DTSTAMP:20260422T212002
CREATED:20231017T065015Z
LAST-MODIFIED:20231017T065015Z
UID:1447-1700870400-1700956799@hondenschoolbingel.nl
SUMMARY:Sport en spel: Fun Obedience & Hoopers
DESCRIPTION:09.30 – 10.00u: Fun Obedience \n11.00 – 11.30u: Hoopers
URL:https://hondenschoolbingel.nl/training/sport-en-spel-fun-obedience-hoopers-2/
END:VEVENT
BEGIN:VEVENT
DTSTART;VALUE=DATE:20231126
DTEND;VALUE=DATE:20231127
DTSTAMP:20260422T212002
CREATED:20231017T065600Z
LAST-MODIFIED:20231017T065600Z
UID:1461-1700956800-1701043199@hondenschoolbingel.nl
SUMMARY:Sport- en spel: Flyball en Hoopers
DESCRIPTION:09.00 – 09.30u: Flyball \n11.30 – 12.00u: Hoopers
URL:https://hondenschoolbingel.nl/training/sport-en-spel-flyball-en-hoopers-3/
END:VEVENT
BEGIN:VEVENT
DTSTART;TZID=Europe/Amsterdam:20231129T183000
DTEND;TZID=Europe/Amsterdam:20231129T190000
DTSTAMP:20260422T212002
CREATED:20231017T064608Z
LAST-MODIFIED:20231017T064608Z
UID:1437-1701282600-1701284400@hondenschoolbingel.nl
SUMMARY:Sport- en spel: Fun Obedience
DESCRIPTION:
URL:https://hondenschoolbingel.nl/training/sport-en-spel-fun-obedience-24/
END:VEVENT
BEGIN:VEVENT
DTSTART;VALUE=DATE:20231202
DTEND;VALUE=DATE:20231203
DTSTAMP:20260422T212002
CREATED:20231017T065041Z
LAST-MODIFIED:20231017T065041Z
UID:1449-1701475200-1701561599@hondenschoolbingel.nl
SUMMARY:Sport- en spel: Fun Obedience en Hoopers
DESCRIPTION:09.30 – 10.00u: Fun Obedience \n11.00 – 11.30u: Hoopers
URL:https://hondenschoolbingel.nl/training/sport-en-spel-fun-obedience-en-hoopers-3/
END:VEVENT
BEGIN:VEVENT
DTSTART;VALUE=DATE:20231203
DTEND;VALUE=DATE:20231204
DTSTAMP:20260422T212002
CREATED:20231017T065632Z
LAST-MODIFIED:20231017T065632Z
UID:1463-1701561600-1701647999@hondenschoolbingel.nl
SUMMARY:Sport- en spel: Flyball en Hoopers
DESCRIPTION:09.00 – 09.30u: Flyball \n11.30 – 12.00u: Hoopers
URL:https://hondenschoolbingel.nl/training/sport-en-spel-flyball-en-hoopers-4/
END:VEVENT
BEGIN:VEVENT
DTSTART;TZID=Europe/Amsterdam:20231206T183000
DTEND;TZID=Europe/Amsterdam:20231206T190000
DTSTAMP:20260422T212002
CREATED:20231017T064640Z
LAST-MODIFIED:20231017T064702Z
UID:1439-1701887400-1701889200@hondenschoolbingel.nl
SUMMARY:Sport- en spel: Fun Obedience
DESCRIPTION:
URL:https://hondenschoolbingel.nl/training/sport-en-spel-fun-obedience-25/
END:VEVENT
BEGIN:VEVENT
DTSTART;VALUE=DATE:20231209
DTEND;VALUE=DATE:20231210
DTSTAMP:20260422T212002
CREATED:20231017T065104Z
LAST-MODIFIED:20231017T065104Z
UID:1451-1702080000-1702166399@hondenschoolbingel.nl
SUMMARY:Sport- en spel: Fun Obedience en Hoopers
DESCRIPTION:09.30 – 10.00u: Fun Obedience \n11.00 – 11.30u: Hoopers
URL:https://hondenschoolbingel.nl/training/sport-en-spel-fun-obedience-en-hoopers-4/
END:VEVENT
BEGIN:VEVENT
DTSTART;VALUE=DATE:20231209
DTEND;VALUE=DATE:20231211
DTSTAMP:20260422T212002
CREATED:20231121T083158Z
LAST-MODIFIED:20231121T083158Z
UID:1496-1702080000-1702252799@hondenschoolbingel.nl
SUMMARY:Start nieuwe puppy & prepuber cursus
DESCRIPTION:
URL:https://hondenschoolbingel.nl/training/start-nieuwe-puppy-prepuber-cursus/
END:VEVENT
BEGIN:VEVENT
DTSTART;VALUE=DATE:20231210
DTEND;VALUE=DATE:20231211
DTSTAMP:20260422T212002
CREATED:20231017T065654Z
LAST-MODIFIED:20231017T065654Z
UID:1465-1702166400-1702252799@hondenschoolbingel.nl
SUMMARY:Sport- en spel: Flyball en Hoopers
DESCRIPTION:  \n09.00 – 09.30u: Flyball \n11.30 – 12.00u: Hoopers
URL:https://hondenschoolbingel.nl/training/sport-en-spel-flyball-en-hoopers-5/
END:VEVENT
BEGIN:VEVENT
DTSTART;VALUE=DATE:20231216
DTEND;VALUE=DATE:20231217
DTSTAMP:20260422T212002
CREATED:20231017T065212Z
LAST-MODIFIED:20231017T065749Z
UID:1453-1702684800-1702771199@hondenschoolbingel.nl
SUMMARY:Sport- en spel: Fun Obedience en Hoopers
DESCRIPTION:09.30 – 10.00u: Fun Obedience \n10.00 – 10.30u: Hoopers
URL:https://hondenschoolbingel.nl/training/sport-en-spel-fun-obedience-en-hoopers-5/
END:VEVENT
BEGIN:VEVENT
DTSTART;VALUE=DATE:20231217
DTEND;VALUE=DATE:20231218
DTSTAMP:20260422T212002
CREATED:20231017T065713Z
LAST-MODIFIED:20231017T065713Z
UID:1467-1702771200-1702857599@hondenschoolbingel.nl
SUMMARY:Sport- en spel: Flyball en Hoopers
DESCRIPTION:09.00 – 09.30u: Flyball \n11.30 – 12.00u: Hoopers
URL:https://hondenschoolbingel.nl/training/sport-en-spel-flyball-en-hoopers-6/
END:VEVENT
BEGIN:VEVENT
DTSTART;VALUE=DATE:20240107
DTEND;VALUE=DATE:20240108
DTSTAMP:20260422T212002
CREATED:20240104T084230Z
LAST-MODIFIED:20240104T084230Z
UID:1554-1704585600-1704671999@hondenschoolbingel.nl
SUMMARY:Lure Coursing
DESCRIPTION:
URL:https://hondenschoolbingel.nl/training/lure-coursing/
END:VEVENT
BEGIN:VEVENT
DTSTART;VALUE=DATE:20240110
DTEND;VALUE=DATE:20240115
DTSTAMP:20260422T212002
CREATED:20231121T083234Z
LAST-MODIFIED:20240104T084157Z
UID:1498-1704844800-1705276799@hondenschoolbingel.nl
SUMMARY:Start nieuw cursusblok
DESCRIPTION:
URL:https://hondenschoolbingel.nl/training/start-nieuw-cursusblok-5/
END:VEVENT
BEGIN:VEVENT
DTSTART;VALUE=DATE:20240306
DTEND;VALUE=DATE:20240311
DTSTAMP:20260422T212002
CREATED:20231121T083341Z
LAST-MODIFIED:20231121T083341Z
UID:1500-1709683200-1710115199@hondenschoolbingel.nl
SUMMARY:Start nieuw cursusblok
DESCRIPTION:
URL:https://hondenschoolbingel.nl/training/start-nieuw-cursusblok-6/
END:VEVENT
BEGIN:VEVENT
DTSTART;VALUE=DATE:20240311
DTEND;VALUE=DATE:20240506
DTSTAMP:20260422T212002
CREATED:20240227T055518Z
LAST-MODIFIED:20240227T055518Z
UID:1610-1710115200-1714953599@hondenschoolbingel.nl
SUMMARY:Lesblok 2
DESCRIPTION:Vanaf 11 maart starten we weer met een nieuw cursusblok. \nHet lesrooster is als volgt: \nWoensdag 16.00u Pubercursus \nWoensdag 17.00u Puppycursus \nZaterdag 10.00u Pubercursus \nZaterdag 11.00u Puppycursus \nZondag 11.00u Pubercursus \nZondag 12.00u Basis cursus Jong Volwassen \n  \nSport- en spel: \nWoensdag 15.30u en 18.00u Fun Obedience \nZaterdag 12.30u Lure Coursing / Renbaan \nZondag 09.00u Flyball \nZondag 9.30u en 10.00u Hoopers Beginners \nZondag 13.00u Hoopers Gevorderd
URL:https://hondenschoolbingel.nl/training/lesblok-2/
END:VEVENT
BEGIN:VEVENT
DTSTART;TZID=Europe/Amsterdam:20240708T080000
DTEND;TZID=Europe/Amsterdam:20240714T170000
DTSTAMP:20260422T212002
CREATED:20240617T061642Z
LAST-MODIFIED:20240617T061642Z
UID:1686-1720425600-1720976400@hondenschoolbingel.nl
SUMMARY:Nieuwe puppycursus
DESCRIPTION:In week 28 start de nieuwe puppycursus weer! Er is nog maar beperkt plek vrij.
URL:https://hondenschoolbingel.nl/training/nieuwe-puppycursus/
END:VEVENT
BEGIN:VEVENT
DTSTART;TZID=Europe/Amsterdam:20240805T080000
DTEND;TZID=Europe/Amsterdam:20240811T170000
DTSTAMP:20260422T212002
CREATED:20240617T061824Z
LAST-MODIFIED:20240617T061824Z
UID:1688-1722844800-1723395600@hondenschoolbingel.nl
SUMMARY:Start nieuw cursusblok
DESCRIPTION:In week 32 starten we weer met nieuwe groepen. Trainingsdagen: maandag t/m zaterdag. Benieuwd naar een passende cursus voor jou en jouw hond? Neem contact met ons op!
URL:https://hondenschoolbingel.nl/training/start-nieuw-cursusblok-7/
END:VEVENT
BEGIN:VEVENT
DTSTART;TZID=Europe/Amsterdam:20241012T080000
DTEND;TZID=Europe/Amsterdam:20241013T170000
DTSTAMP:20260422T212002
CREATED:20241003T062002Z
LAST-MODIFIED:20241003T062002Z
UID:1753-1728720000-1728838800@hondenschoolbingel.nl
SUMMARY:Start cursussen
DESCRIPTION:Start puppy- en pubergroepen. Er is nog 1 plek vrij bij de puppycursus op zaterdag om 11.00u en 2 plekken bij de pubers op zondag 09.00u. \nInteresse? Schrijf je snel in!
URL:https://hondenschoolbingel.nl/training/start-cursussen/
END:VEVENT
END:VCALENDAR