BEGIN:VCALENDAR
VERSION:2.0
PRODID:-//Hondenschool Bingel - ECPv6.8.1//NONSGML v1.0//EN
CALSCALE:GREGORIAN
METHOD:PUBLISH
X-WR-CALNAME:Hondenschool Bingel
X-ORIGINAL-URL:https://hondenschoolbingel.nl
X-WR-CALDESC:Evenementen voor Hondenschool Bingel
REFRESH-INTERVAL;VALUE=DURATION:PT1H
X-Robots-Tag:noindex
X-PUBLISHED-TTL:PT1H
BEGIN:VTIMEZONE
TZID:Europe/Amsterdam
BEGIN:DAYLIGHT
TZOFFSETFROM:+0100
TZOFFSETTO:+0200
TZNAME:CEST
DTSTART:20240331T010000
END:DAYLIGHT
BEGIN:STANDARD
TZOFFSETFROM:+0200
TZOFFSETTO:+0100
TZNAME:CET
DTSTART:20241027T010000
END:STANDARD
END:VTIMEZONE
BEGIN:VEVENT
DTSTART;TZID=Europe/Amsterdam:20240805T080000
DTEND;TZID=Europe/Amsterdam:20240811T170000
DTSTAMP:20260423T140908
CREATED:20240617T061824Z
LAST-MODIFIED:20240617T061824Z
UID:1688-1722844800-1723395600@hondenschoolbingel.nl
SUMMARY:Start nieuw cursusblok
DESCRIPTION:In week 32 starten we weer met nieuwe groepen. Trainingsdagen: maandag t/m zaterdag. Benieuwd naar een passende cursus voor jou en jouw hond? Neem contact met ons op!
URL:https://hondenschoolbingel.nl/training/start-nieuw-cursusblok-7/
END:VEVENT
END:VCALENDAR