BEGIN:VCALENDAR
VERSION:2.0
PRODID:-//Hondenschool Bingel - ECPv6.8.1//NONSGML v1.0//EN
CALSCALE:GREGORIAN
METHOD:PUBLISH
X-ORIGINAL-URL:https://hondenschoolbingel.nl
X-WR-CALDESC:Evenementen voor Hondenschool Bingel
REFRESH-INTERVAL;VALUE=DURATION:PT1H
X-Robots-Tag:noindex
X-PUBLISHED-TTL:PT1H
BEGIN:VTIMEZONE
TZID:Europe/Amsterdam
BEGIN:DAYLIGHT
TZOFFSETFROM:+0100
TZOFFSETTO:+0200
TZNAME:CEST
DTSTART:20230326T010000
END:DAYLIGHT
BEGIN:STANDARD
TZOFFSETFROM:+0200
TZOFFSETTO:+0100
TZNAME:CET
DTSTART:20231029T010000
END:STANDARD
END:VTIMEZONE
BEGIN:VEVENT
DTSTART;TZID=Europe/Amsterdam:20230204T100000
DTEND;TZID=Europe/Amsterdam:20230204T103000
DTSTAMP:20260425T030828
CREATED:20221130T091700Z
LAST-MODIFIED:20230112T084741Z
UID:1089-1675504800-1675506600@hondenschoolbingel.nl
SUMMARY:Hoopers Beginners
DESCRIPTION:
URL:https://hondenschoolbingel.nl/training/hoopers-beginners-5/
END:VEVENT
BEGIN:VEVENT
DTSTART;TZID=Europe/Amsterdam:20230204T103000
DTEND;TZID=Europe/Amsterdam:20230204T110000
DTSTAMP:20260425T030828
CREATED:20221130T091636Z
LAST-MODIFIED:20230112T084719Z
UID:1086-1675506600-1675508400@hondenschoolbingel.nl
SUMMARY:Hoopers Gevorderd
DESCRIPTION:
URL:https://hondenschoolbingel.nl/training/hoopers-gevorderd-5/
END:VEVENT
BEGIN:VEVENT
DTSTART;TZID=Europe/Amsterdam:20230204T110000
DTEND;TZID=Europe/Amsterdam:20230204T113000
DTSTAMP:20260425T030828
CREATED:20221130T091721Z
LAST-MODIFIED:20221130T091721Z
UID:1091-1675508400-1675510200@hondenschoolbingel.nl
SUMMARY:Flyball
DESCRIPTION:
URL:https://hondenschoolbingel.nl/training/flyball-5/
END:VEVENT
BEGIN:VEVENT
DTSTART;TZID=Europe/Amsterdam:20230204T113000
DTEND;TZID=Europe/Amsterdam:20230204T120000
DTSTAMP:20260425T030828
CREATED:20221130T091748Z
LAST-MODIFIED:20230112T084811Z
UID:1093-1675510200-1675512000@hondenschoolbingel.nl
SUMMARY:Fun Obedience= VOL
DESCRIPTION:
URL:https://hondenschoolbingel.nl/training/fun-obedience-5/
END:VEVENT
END:VCALENDAR